BEGIN:VCALENDAR
VERSION:2.0
PRODID:https://github.com/derhansen/sf_event_mgt
METHOD:PUBLISH
BEGIN:VEVENT
UID:117-281@www.hohemark.de
CLASS: PUBLIC
SUMMARY:14. Fachtag der TagesReha Frankfurt
DESCRIPTION:Alle weiteren Informationen gibt es in diesem Flyer (PDF).\n\nK
 eine Veranstaltung verpassen? Abonnieren Sie unseren E-Mail-Newsletter!\n\n
 \n\n
DTSTAMP:20260421T101835Z
DTSTART:20260520T110000Z
DTEND:20260520T150000Z
END:VEVENT
END:VCALENDAR
